BEGIN:VCALENDAR
VERSION:2.0
PRODID:-//HOLIGYM - ECPv4.3.2//NONSGML v1.0//EN
CALSCALE:GREGORIAN
METHOD:PUBLISH
X-WR-CALNAME:HOLIGYM
X-ORIGINAL-URL:https://holigym.fr
X-WR-CALDESC:Events for HOLIGYM
BEGIN:VEVENT
DTSTART;TZID=UTC+1:20150309T193000
DTEND;TZID=UTC+1:20150309T203000
DTSTAMP:20260422T123706
CREATED:20150227T121338Z
LAST-MODIFIED:20160315T101614Z
UID:10382-1425929400-1425933000@holigym.fr
SUMMARY:URBAN TRAINING
DESCRIPTION:Le URBAN TRAINING sont des séances en groupe qui utilisent le mobilier urbain.\nLes séances sont encadrés par un coach diplômé d'état\, une excellent façon de se remettre en forme tout en prenant l'air dans une ambiance fun et ludique.\n\nVous y êtes les bienvenus quel que soit votre niveau de forme ! Votre coach pourra vous proposer des exercices adaptés en fonction de votre niveau de pratique et de votre expérience.\nVenez avec une tenue adaptée à la pratique du sport en extérieur\, une bouteille d'eau et votre motivation !\n[divider type="1"]\n\n[/divider]\nComment s'inscrire à une session URBAN TRAINING ?\n[contact_info name="Matthieu" color="accent2" phone="" cellphone="0783007333" email="contact.holigym@gmail.com" address="Pour s'inscrire à une séance\, validez votre inscription par mail\, téléphone ou SMS. Pensez à préciser la date de la session choisi. A bientôt !"]\n\n[/contact_info]
URL:https://holigym.fr/planning/urban-training-2/2015-03-09
LOCATION:Place Jean Bene\, Montpellier\, 34000\, France
ATTACH;FMTTYPE=image/jpeg:https://holigym.fr/wp-content/uploads/2015/02/DSC_0411.jpg
END:VEVENT
END:VCALENDAR