BEGIN:VCALENDAR
VERSION:2.0
PRODID:-//HOLIGYM - ECPv4.3.2//NONSGML v1.0//EN
CALSCALE:GREGORIAN
METHOD:PUBLISH
X-WR-CALNAME:HOLIGYM
X-ORIGINAL-URL:https://holigym.fr
X-WR-CALDESC:Events for HOLIGYM
BEGIN:VEVENT
DTSTART;TZID=UTC+1:20150610T190000
DTEND;TZID=UTC+1:20150610T200000
DTSTAMP:20260422T073454
CREATED:20150608T114002Z
LAST-MODIFIED:20150608T114002Z
UID:10871-1433962800-1433966400@holigym.fr
SUMMARY:HIIT TRAINING
DESCRIPTION:Les cours HIIT TRAINING sont des séances en groupe de haute intensité.\n\nLes sessions encadrées par un coach diplômé\, ont pour but principal de vous faire brûler un maximum de calories pendant et après la séance. Le cours idéal si vous voulez perdre du poids et vous défouler !\nVous y êtes les bienvenus quel que soit votre niveau de forme. Le principe est simple : Etre à VOTRE intensité maximum !\nLes sessions se déroulent essentiellement sans matériel mais pourront être agrémentées d'exercices au TRX\, Wall Ball ou Rip Trainer..\n Venez avec une tenue adaptée à la pratique du sport en extérieur\, une bouteille d'eau et votre motivation !\n[divider type="1"] [/divider]\nComment s'inscrire à une session de HIIT TRAINING ?\nVous avez la possibilité de payer vos séances en ligne ou directement le jour de la séance. Les tarifs sont de 10€ la séance unique ou 80€ le pack de 10 séances. [slogan button_text="" link="" button_icon="theme-user-follow" button_icon_color="accent1" button_icon_placement="left"]\nAchetez vos séances sur notre boutique . [button id="" style="border" class="" align="" link="http://holigym.fr/categorie-produit/team-training/" linkTarget="_self" bgColor="accent1" hover_color="accent1" font="18" icon="" icon_placement="left" icon_color=""]BOUTIQUE[/button]\n[/slogan] [column parallax_bg="disabled" parallax_bg_inertia="-0.2" extended="" extended_padding="1" background_color="" background_image="" background_repeat="" background_position="" background_size="auto" background_attachment="" hide_bg_lowres="" background_video="" vertical_padding_top="0" vertical_padding_bottom="0" more_link="" more_text="" left_border="transparent" class="" id="" title="" title_type="single" animation="none" width="1/1" last="true"] [column_1 width="1/2" title="undefined" title_type="undefined" animation="none" implicit="true"] [team_member name="Matthieu" position="Votre coach" url="" email="contact.holigym@gmail.com" phone="0601407734" picture="http://holigym.fr/wp-content/uploads/2012/10/COACHING_MONTPELLIER1.gif" googleplus="" linkedin="" facebook="" twitter="" youtube="" pinterest="" lastfm="" instagram="" dribble="" vimeo=""] [/team_member] [/column_1] [column_1 width="1/2" last="true" title="" title_type="single" animation="none" implicit="true"] [contact_info name="Matthieu" color="accent2" phone="" cellphone="0601407734" email="contact.holigym@gmail.com" address="Pour s'inscrire à une séance\, validez votre inscription par mail\, téléphone ou SMS. Pensez à préciser la date de la session choisi. A bientôt !"] [/contact_info] [/column_1] [/column]
URL:https://holigym.fr/planning/hiit-training-3/2015-06-10
LOCATION:France Métropolitaine
CATEGORIES:HIIT TRAINING
END:VEVENT
END:VCALENDAR