BEGIN:VCALENDAR
VERSION:2.0
PRODID:-//HOLIGYM - ECPv4.3.2//NONSGML v1.0//EN
CALSCALE:GREGORIAN
METHOD:PUBLISH
X-WR-CALNAME:HOLIGYM
X-ORIGINAL-URL:https://holigym.fr
X-WR-CALDESC:Events for HOLIGYM
BEGIN:VEVENT
DTSTART;TZID=UTC+1:20150902T121500
DTEND;TZID=UTC+1:20150902T131500
DTSTAMP:20260422T022737
CREATED:20150827T120140Z
LAST-MODIFIED:20160315T100115Z
UID:11276-1441196100-1441199700@holigym.fr
SUMMARY:BOOTCAMP
DESCRIPTION:Les cours BOOTCAMP FITNESS sont des séances en groupe données à l’extérieur (dès 3 personnes).\nIls sont encadrés par un coach diplômé\, avec comme but principal de vous apporter un maximum de résultats que ce soit pour de la perte de poids\, de la remise en forme ou du conditionnement physique.\nVous y êtes les bienvenus quel que soit votre niveau de forme. Renforcement\, endurance\, agilité\, équilibre et jeux de groupe ne sont que quelques paramètres que vos entraînements inclueront et tout cela avec une grande portion de motivation et de fun bien sûr !\nPas besoin de matériel\, venez avec une tenue adaptée à la pratique du sport en extérieur\, une bouteille d'eau et votre motivation !\n[divider type="1"]\n\n[/divider]\nComment s'inscrire à une session de BOOTCAMP ?\n[column_1 width="1/2" last="true" title="" title_type="single" animation="none" implicit="true"]\n\n[contact_info name="Matthieu" color="accent2" phone="" cellphone="0783007333" email="contact.holigym@gmail.com" address="Pour s'inscrire à une séance\, validez votre inscription par mail\, téléphone ou SMS. Pensez à préciser la date de la session choisi. A bientôt !"]\n\n[/contact_info]
URL:https://holigym.fr/planning/bootcamp-4/2015-09-02
LOCATION:RUE DES CHASSEURS\, MONTPELLIER\, 34070
ATTACH;FMTTYPE=image/jpeg:https://holigym.fr/wp-content/uploads/2015/06/mainimages_single.jpg
END:VEVENT
END:VCALENDAR